10.000000
0.000000
0.000000
-10.012300
470312.400000
6676887.220000
