0.50
0.00000000000000
0.00000000000000
-0.50
303894.75
3198254.25
