0.500000
0.000000
0.000000
-0.500000
359670.100000
4598816.740000
