1.000000
0.000000
0.000000
-1.000000
374947.360000
4259255.560000
