10.003416
0.000000
0.000000
-10.000000
438954.400000
6319193.640000
