1.00000000000000
0.00000000000000
0.00000000000000
-1.00000000000000
776380.50000000000000
3138857.50000000000000
