5.001595
0.000000
0.000000
-5.003292
533612.920000
6233477.660000
