10.000000
0.000000
0.000000
-10.000000
459950.960000
6322625.220000
