1.000000
0.000000
0.000000
-1.000000
315036.420000
4585157.340000
