90.000000
0.000000
0.000000
-90.849057
301973.100000
4581522.180000
