1.000104
0.000000
0.000000
-1.000079
282382.720000
2716936.780000
